View In:
ArcGIS JavaScript
ArcGIS Online Map Viewer
ArcGIS Earth
ArcMap
View Footprint In:
ArcGIS Online Map Viewer
Service Description: Refineria_Minatitlan_2021
Name: Refineria_Minatitlan_2021
Description: Refineria_Minatitlan_2021
Single Fused Map Cache: false
Extent:
XMin: 335930.98931884766
YMin: 1986723.9536987306
XMax: 339419.78931884764
YMax: 1989598.8536987305
Spatial Reference: 32615
(32615)
Initial Extent:
XMin: 335930.98931884766
YMin: 1986723.9536987306
XMax: 339419.78931884764
YMax: 1989598.8536987305
Spatial Reference: 32615
(32615)
Full Extent:
XMin: 335930.98931884766
YMin: 1986723.9536987306
XMax: 339419.78931884764
YMax: 1989598.8536987305
Spatial Reference: 32615
(32615)
Pixel Size X: 0.09999999999999967
Pixel Size Y: 0.09999999999999676
Band Count: 3
Pixel Type: U8
RasterFunction Infos: {"rasterFunctionInfos": [{
"name": "None",
"description": "",
"help": ""
}]}
Mensuration Capabilities: Basic
Has Histograms: true
Has Colormap: false
Has Multi Dimensions : false
Rendering Rule:
Min Scale: 0
Max Scale: 0
Copyright Text:
Service Data Type: esriImageServiceDataTypeRGB
Min Values: 1, 1, 1
Max Values: 255, 255, 255
Mean Values: 133.1455905385, 133.06227913805, 124.57141263484
Standard Deviation Values: 58.321492110211, 54.072942702572, 57.395847517666
Object ID Field:
Fields:
None
Default Mosaic Method: Center
Allowed Mosaic Methods:
SortField:
SortValue: null
Mosaic Operator: First
Default Compression Quality: 75
Default Resampling Method: Bilinear
Max Record Count: null
Max Image Height: 4100
Max Image Width: 15000
Max Download Image Count: null
Max Mosaic Image Count: null
Allow Raster Function: true
Allow Copy: null
Allow Analysis: null
Allow Compute TiePoints: false
Supports Statistics: false
Supports Advanced Queries: false
Use StandardizedQueries: true
Raster Type Infos:
Name: Raster Dataset
Description: Supports all ArcGIS Raster Datasets
Help:
Has Raster Attribute Table: false
Edit Fields Info: null
Ownership Based AccessControl For Rasters: null
Child Resources:
Info
Histograms
Key Properties
Legend
Raster Function Infos
Supported Operations:
Export Image
Identify
Measure
Compute Histograms
Compute Statistics Histograms
Get Samples
Compute Class Statistics
Query Boundary
Compute Pixel Location
Compute Angles
Validate
Project