{
 "currentVersion": 10.91,
 "serviceDescription": "Refineria_Minatitlan_2021",
 "name": "Refineria_Minatitlan_2021",
 "description": "Refineria_Minatitlan_2021",
 "extent": {
  "xmin": 335930.98931884766,
  "ymin": 1986723.9536987306,
  "xmax": 339419.78931884764,
  "ymax": 1989598.8536987305,
  "spatialReference": {
   "wkid": 32615,
   "latestWkid": 32615
  }
 },
 "initialExtent": {
  "xmin": 335930.98931884766,
  "ymin": 1986723.9536987306,
  "xmax": 339419.78931884764,
  "ymax": 1989598.8536987305,
  "spatialReference": {
   "wkid": 32615,
   "latestWkid": 32615
  }
 },
 "fullExtent": {
  "xmin": 335930.98931884766,
  "ymin": 1986723.9536987306,
  "xmax": 339419.78931884764,
  "ymax": 1989598.8536987305,
  "spatialReference": {
   "wkid": 32615,
   "latestWkid": 32615
  }
 },
 "pixelSizeX": 0.09999999999999967,
 "pixelSizeY": 0.09999999999999676,
 "bandCount": 3,
 "pixelType": "U8",
 "minPixelSize": 0,
 "maxPixelSize": 0,
 "copyrightText": "",
 "serviceDataType": "esriImageServiceDataTypeRGB",
 "minValues": [
  1,
  1,
  1
 ],
 "maxValues": [
  255,
  255,
  255
 ],
 "meanValues": [
  133.1455905385,
  133.06227913805,
  124.57141263484
 ],
 "stdvValues": [
  58.321492110211,
  54.072942702572,
  57.395847517666
 ],
 "objectIdField": "",
 "fields": [],
 "capabilities": "Image,Metadata,Mensuration",
 "defaultMosaicMethod": "Center",
 "allowedMosaicMethods": "",
 "sortField": "",
 "sortValue": null,
 "sortAscending": true,
 "mosaicOperator": "First",
 "defaultCompressionQuality": 75,
 "defaultResamplingMethod": "Bilinear",
 "maxImageHeight": 4100,
 "maxImageWidth": 15000,
 "allowRasterFunction": true,
 "rasterFunctionInfos": [
  {
   "name": "None",
   "description": "",
   "help": ""
  }
 ],
 "rasterTypeInfos": [
  {
   "name": "Raster Dataset",
   "description": "Supports all ArcGIS Raster Datasets",
   "help": ""
  }
 ],
 "mensurationCapabilities": "Basic",
 "hasHistograms": true,
 "hasColormap": false,
 "hasRasterAttributeTable": false,
 "minScale": 0,
 "maxScale": 0,
 "exportTilesAllowed": false,
 "hasMultidimensions": false,
 "supportsStatistics": false,
 "supportsAdvancedQueries": false,
 "editFieldsInfo": null,
 "ownershipBasedAccessControlForRasters": null,
 "allowComputeTiePoints": false,
 "useStandardizedQueries": true,
 "advancedQueryCapabilities": {
  "useStandardizedQueries": true,
  "supportsStatistics": false,
  "supportsOrderBy": false,
  "supportsDistinct": false,
  "supportsPagination": false
 },
 "spatialReference": {
  "wkid": 32615,
  "latestWkid": 32615
 }
}
