View In:
ArcGIS JavaScript
ArcGIS Online Map Viewer
ArcGIS Earth
ArcMap
View Footprint In:
ArcGIS Online Map Viewer
Service Description: PMX/D41_Imagen_2_12092023
Name: PMX/D41_Imagen_2_12092023
Description:
Single Fused Map Cache: false
Extent:
XMin: 217045.64055733097
YMin: 1866510.0537591064
XMax: 503745.640557331
YMax: 2109710.0537591064
Spatial Reference: 32615
(32615)
Initial Extent:
XMin: 217045.64055733097
YMin: 1866510.0537591064
XMax: 503745.640557331
YMax: 2109710.0537591064
Spatial Reference: 32615
(32615)
Full Extent:
XMin: 217045.64055733097
YMin: 1866510.0537591064
XMax: 503745.640557331
YMax: 2109710.0537591064
Spatial Reference: 32615
(32615)
Pixel Size X: 50.0
Pixel Size Y: 50.0
Band Count: 1
Pixel Type: S16
RasterFunction Infos: {"rasterFunctionInfos": [{
"name": "None",
"description": "",
"help": ""
}]}
Mensuration Capabilities: Basic
Has Histograms: false
Has Colormap: false
Has Multi Dimensions : false
Rendering Rule:
Min Scale: 0
Max Scale: 0
Copyright Text:
Service Data Type: esriImageServiceDataTypeGeneric
Min Values: 0
Max Values: 12211
Mean Values: 180.28790552071823
Standard Deviation Values: 113.0436590666405
Object ID Field:
Fields:
None
Default Mosaic Method: Center
Allowed Mosaic Methods:
SortField:
SortValue: null
Mosaic Operator: First
Default Compression Quality: 75
Default Resampling Method: Bilinear
Max Record Count: null
Max Image Height: 4100
Max Image Width: 15000
Max Download Image Count: null
Max Mosaic Image Count: null
Allow Raster Function: true
Allow Copy: true
Allow Analysis: true
Allow Compute TiePoints: false
Supports Statistics: false
Supports Advanced Queries: false
Use StandardizedQueries: true
Raster Type Infos:
Name: Raster Dataset
Description: Supports all ArcGIS Raster Datasets
Help:
Has Raster Attribute Table: true
Edit Fields Info: null
Ownership Based AccessControl For Rasters: null
Child Resources:
Info
Raster Attribute Table
Statistics
Key Properties
Legend
Raster Function Infos
Supported Operations:
Export Image
Identify
Measure
Compute Histograms
Compute Statistics Histograms
Get Samples
Compute Class Statistics
Query Boundary
Compute Pixel Location
Compute Angles
Validate
Project