{
 "currentVersion": 10.8,
 "serviceDescription": "PMX/D41_Imagen_2_12092023",
 "name": "PMX/D41_Imagen_2_12092023",
 "description": "",
 "extent": {
  "xmin": 217045.64055733097,
  "ymin": 1866510.0537591064,
  "xmax": 503745.640557331,
  "ymax": 2109710.0537591064,
  "spatialReference": {
   "wkid": 32615,
   "latestWkid": 32615
  }
 },
 "initialExtent": {
  "xmin": 217045.64055733097,
  "ymin": 1866510.0537591064,
  "xmax": 503745.640557331,
  "ymax": 2109710.0537591064,
  "spatialReference": {
   "wkid": 32615,
   "latestWkid": 32615
  }
 },
 "fullExtent": {
  "xmin": 217045.64055733097,
  "ymin": 1866510.0537591064,
  "xmax": 503745.640557331,
  "ymax": 2109710.0537591064,
  "spatialReference": {
   "wkid": 32615,
   "latestWkid": 32615
  }
 },
 "pixelSizeX": 50,
 "pixelSizeY": 50,
 "bandCount": 1,
 "pixelType": "S16",
 "minPixelSize": 0,
 "maxPixelSize": 0,
 "copyrightText": "",
 "serviceDataType": "esriImageServiceDataTypeGeneric",
 "minValues": [
  0
 ],
 "maxValues": [
  12211
 ],
 "meanValues": [
  180.28790552071823
 ],
 "stdvValues": [
  113.0436590666405
 ],
 "objectIdField": "",
 "fields": [],
 "capabilities": "Image,Metadata,Mensuration",
 "defaultMosaicMethod": "Center",
 "allowedMosaicMethods": "",
 "sortField": "",
 "sortValue": null,
 "sortAscending": true,
 "mosaicOperator": "First",
 "defaultCompressionQuality": 75,
 "defaultResamplingMethod": "Bilinear",
 "maxImageHeight": 4100,
 "maxImageWidth": 15000,
 "allowRasterFunction": true,
 "rasterFunctionInfos": [
  {
   "name": "None",
   "description": "",
   "help": ""
  }
 ],
 "rasterTypeInfos": [
  {
   "name": "Raster Dataset",
   "description": "Supports all ArcGIS Raster Datasets",
   "help": ""
  }
 ],
 "mensurationCapabilities": "Basic",
 "hasHistograms": false,
 "hasColormap": false,
 "hasRasterAttributeTable": true,
 "minScale": 0,
 "maxScale": 0,
 "exportTilesAllowed": false,
 "hasMultidimensions": false,
 "supportsStatistics": false,
 "supportsAdvancedQueries": false,
 "editFieldsInfo": null,
 "ownershipBasedAccessControlForRasters": null,
 "allowComputeTiePoints": false,
 "useStandardizedQueries": true,
 "advancedQueryCapabilities": {
  "useStandardizedQueries": true,
  "supportsStatistics": false,
  "supportsOrderBy": false,
  "supportsDistinct": false,
  "supportsPagination": false
 },
 "spatialReference": {
  "wkid": 32615,
  "latestWkid": 32615
 }
}
