View In:
ArcGIS JavaScript
ArcGIS Online Map Viewer
ArcGIS Earth
ArcMap
View Footprint In:
ArcGIS Online Map Viewer
Service Description: PMX/D87_Imagen_2_05112023
Name: PMX/D87_Imagen_2_05112023
Description:
Single Fused Map Cache: false
Extent:
XMin: 267.3299380730484
YMin: 18.31603935965017
XMax: 269.4905483495727
YMax: 20.405755052656414
Spatial Reference: 4326
(4326)
Initial Extent:
XMin: 267.3299380730484
YMin: 18.31603935965017
XMax: 269.4905483495727
YMax: 20.405755052656414
Spatial Reference: 4326
(4326)
Full Extent:
XMin: 267.3299380730484
YMin: 18.31603935965017
XMax: 269.4905483495727
YMax: 20.405755052656414
Spatial Reference: 4326
(4326)
Pixel Size X: 1.6637996892994507E-4
Pixel Size Y: 1.565564648641178E-4
Band Count: 1
Pixel Type: U16
RasterFunction Infos: {"rasterFunctionInfos": [{
"name": "None",
"description": "",
"help": ""
}]}
Mensuration Capabilities: Basic
Has Histograms: false
Has Colormap: false
Has Multi Dimensions : false
Rendering Rule:
Min Scale: 0
Max Scale: 0
Copyright Text:
Service Data Type: esriImageServiceDataTypeGeneric
Min Values: N/A
Max Values: N/A
Mean Values: N/A
Standard Deviation Values: N/A
Object ID Field:
Fields:
None
Default Mosaic Method: Center
Allowed Mosaic Methods:
SortField:
SortValue: null
Mosaic Operator: First
Default Compression Quality: 75
Default Resampling Method: Bilinear
Max Record Count: null
Max Image Height: 4100
Max Image Width: 15000
Max Download Image Count: null
Max Mosaic Image Count: null
Allow Raster Function: true
Allow Copy: true
Allow Analysis: true
Allow Compute TiePoints: false
Supports Statistics: false
Supports Advanced Queries: false
Use StandardizedQueries: true
Raster Type Infos:
Name: Raster Dataset
Description: Supports all ArcGIS Raster Datasets
Help:
Has Raster Attribute Table: false
Edit Fields Info: null
Ownership Based AccessControl For Rasters: null
Child Resources:
Info
Statistics
Key Properties
Legend
Raster Function Infos
Supported Operations:
Export Image
Identify
Measure
Compute Histograms
Compute Statistics Histograms
Get Samples
Compute Class Statistics
Query Boundary
Compute Pixel Location
Compute Angles
Validate
Project