View In:
ArcGIS JavaScript
ArcGIS Online Map Viewer
ArcGIS Earth
ArcMap
View Footprint In:
ArcGIS Online Map Viewer
Service Description: Bateria_Perdiz_MDE_terreno5m
Name: Bateria_Perdiz_MDE_terreno5m
Description: Bateria_Perdiz_MDE_terreno5m
Single Fused Map Cache: false
Extent:
XMin: -96.14953619837473
YMin: 18.497236254475663
XMax: -96.1353534159986
YMax: 18.51437769675146
Spatial Reference: 4326
(4326)
Initial Extent:
XMin: -96.14953619837473
YMin: 18.497236254475663
XMax: -96.1353534159986
YMax: 18.51437769675146
Spatial Reference: 4326
(4326)
Full Extent:
XMin: -96.14953619837473
YMin: 18.497236254475663
XMax: -96.1353534159986
YMax: 18.51437769675146
Spatial Reference: 4326
(4326)
Pixel Size X: 4.696285555012882E-5
Pixel Size Y: 4.696285555012862E-5
Band Count: 1
Pixel Type: F32
RasterFunction Infos: {"rasterFunctionInfos": [{
"name": "None",
"description": "",
"help": ""
}]}
Mensuration Capabilities: Basic
Has Histograms: true
Has Colormap: false
Has Multi Dimensions : false
Rendering Rule:
Min Scale: 0
Max Scale: 0
Copyright Text:
Service Data Type: esriImageServiceDataTypeGeneric
Min Values: 12.180000305176
Max Values: 26.520000457764
Mean Values: 19.917457899034
Standard Deviation Values: 2.6994849034733
Object ID Field:
Fields:
None
Default Mosaic Method: Center
Allowed Mosaic Methods:
SortField:
SortValue: null
Mosaic Operator: First
Default Compression Quality: 75
Default Resampling Method: Bilinear
Max Record Count: null
Max Image Height: 4100
Max Image Width: 15000
Max Download Image Count: null
Max Mosaic Image Count: null
Allow Raster Function: true
Allow Copy: null
Allow Analysis: null
Allow Compute TiePoints: false
Supports Statistics: false
Supports Advanced Queries: false
Use StandardizedQueries: true
Raster Type Infos:
Name: Raster Dataset
Description: Supports all ArcGIS Raster Datasets
Help:
Has Raster Attribute Table: false
Edit Fields Info: null
Ownership Based AccessControl For Rasters: null
Child Resources:
Info
Histograms
Key Properties
Legend
Raster Function Infos
Supported Operations:
Export Image
Identify
Measure
Compute Histograms
Compute Statistics Histograms
Get Samples
Compute Class Statistics
Query Boundary
Compute Pixel Location
Compute Angles
Validate
Project