{
 "currentVersion": 10.91,
 "serviceDescription": "PMX/D46_Imagen_2_19092023",
 "name": "PMX/D46_Imagen_2_19092023",
 "description": "",
 "extent": {
  "xmin": 444425.90333521034,
  "ymin": 1908066.9903878071,
  "xmax": 730725.9033352104,
  "ymax": 2150666.990387807,
  "spatialReference": {
   "wkid": 32615,
   "latestWkid": 32615
  }
 },
 "initialExtent": {
  "xmin": 444425.90333521034,
  "ymin": 1908066.9903878071,
  "xmax": 730725.9033352104,
  "ymax": 2150666.990387807,
  "spatialReference": {
   "wkid": 32615,
   "latestWkid": 32615
  }
 },
 "fullExtent": {
  "xmin": 444425.90333521034,
  "ymin": 1908066.9903878071,
  "xmax": 730725.9033352104,
  "ymax": 2150666.990387807,
  "spatialReference": {
   "wkid": 32615,
   "latestWkid": 32615
  }
 },
 "hasMultidimensions": false,
 "pixelSizeX": 50.00000000000001,
 "pixelSizeY": 50,
 "datasetFormat": "GRID",
 "uncompressedSize": 55565104,
 "blockWidth": 256,
 "blockHeight": 16,
 "compressionType": "RLE",
 "bandNames": [
  "1"
 ],
 "allowCopy": true,
 "allowAnalysis": true,
 "bandCount": 1,
 "noDataValue": -32768,
 "noDataValues": [
  -32768
 ],
 "pixelType": "S16",
 "minPixelSize": 0,
 "maxPixelSize": 0,
 "copyrightText": "",
 "serviceDataType": "esriImageServiceDataTypeGeneric",
 "serviceSourceType": "esriImageServiceSourceTypeDataset",
 "minValues": [
  0
 ],
 "maxValues": [
  9356
 ],
 "meanValues": [
  161.932765494708
 ],
 "stdvValues": [
  102.34024043255633
 ],
 "objectIdField": "",
 "fields": [],
 "capabilities": "Image,Metadata,Mensuration",
 "defaultMosaicMethod": "Center",
 "allowedMosaicMethods": "",
 "sortField": "",
 "sortValue": null,
 "sortAscending": true,
 "mosaicOperator": "First",
 "defaultCompressionQuality": 75,
 "defaultResamplingMethod": "Bilinear",
 "maxImageHeight": 4100,
 "maxImageWidth": 15000,
 "allowRasterFunction": true,
 "rasterFunctionInfos": [
  {
   "name": "None",
   "description": "",
   "help": ""
  }
 ],
 "rasterTypeInfos": [
  {
   "name": "Raster Dataset",
   "description": "Supports all ArcGIS Raster Datasets",
   "help": ""
  }
 ],
 "mensurationCapabilities": "Basic",
 "hasHistograms": false,
 "hasColormap": false,
 "hasRasterAttributeTable": true,
 "minScale": 0,
 "maxScale": 0,
 "exportTilesAllowed": false,
 "supportsStatistics": false,
 "supportsAdvancedQueries": false,
 "editFieldsInfo": null,
 "ownershipBasedAccessControlForRasters": null,
 "allowComputeTiePoints": false,
 "useStandardizedQueries": true,
 "advancedQueryCapabilities": {
  "useStandardizedQueries": true,
  "supportsStatistics": false,
  "supportsOrderBy": false,
  "supportsDistinct": false,
  "supportsPagination": false
 },
 "spatialReference": {
  "wkid": 32615,
  "latestWkid": 32615
 }
}
