{
 "currentVersion": 10.91,
 "serviceDescription": "PMX/D136_Imagen_24122023",
 "name": "PMX/D136_Imagen_24122023",
 "description": "",
 "extent": {
  "xmin": -97.34462550802064,
  "ymin": 17.657188692196303,
  "xmax": -91.42838642791462,
  "ymax": 23.02472373982566,
  "spatialReference": {
   "wkt": "GEOGCS[\"\",DATUM[\"D_\",SPHEROID[\"WGS_1984\",6378137.0,298.257223563]],PRIMEM[\"Greenwich\",0.0],UNIT[\"Degree\",0.0174532925199433]]"
  }
 },
 "initialExtent": {
  "xmin": -97.34462550802064,
  "ymin": 17.657188692196303,
  "xmax": -91.42838642791462,
  "ymax": 23.02472373982566,
  "spatialReference": {
   "wkt": "GEOGCS[\"\",DATUM[\"D_\",SPHEROID[\"WGS_1984\",6378137.0,298.257223563]],PRIMEM[\"Greenwich\",0.0],UNIT[\"Degree\",0.0174532925199433]]"
  }
 },
 "fullExtent": {
  "xmin": -97.34462550802064,
  "ymin": 17.657188692196303,
  "xmax": -91.42838642791462,
  "ymax": 23.02472373982566,
  "spatialReference": {
   "wkt": "GEOGCS[\"\",DATUM[\"D_\",SPHEROID[\"WGS_1984\",6378137.0,298.257223563]],PRIMEM[\"Greenwich\",0.0],UNIT[\"Degree\",0.0174532925199433]]"
  }
 },
 "hasMultidimensions": false,
 "pixelSizeX": 3.910270376805039E-4,
 "pixelSizeY": 2.6749402210850975E-4,
 "datasetFormat": "AFR",
 "uncompressedSize": 607197160,
 "blockWidth": 15130,
 "blockHeight": 34,
 "compressionType": "None",
 "bandNames": [
  "VV"
 ],
 "allowCopy": true,
 "allowAnalysis": true,
 "bandCount": 1,
 "pixelType": "U16",
 "minPixelSize": 0,
 "maxPixelSize": 0,
 "copyrightText": "",
 "serviceDataType": "esriImageServiceDataTypeGeneric",
 "serviceSourceType": "esriImageServiceSourceTypeDataset",
 "minValues": [],
 "maxValues": [],
 "meanValues": [],
 "stdvValues": [],
 "objectIdField": "",
 "fields": [],
 "capabilities": "Image,Metadata,Mensuration",
 "defaultMosaicMethod": "Center",
 "allowedMosaicMethods": "",
 "sortField": "",
 "sortValue": null,
 "sortAscending": true,
 "mosaicOperator": "First",
 "maxDownloadSizeLimit": 0,
 "defaultCompressionQuality": 75,
 "defaultResamplingMethod": "Bilinear",
 "maxImageHeight": 4100,
 "maxImageWidth": 15000,
 "maxRecordCount": 1000,
 "maxDownloadImageCount": 20,
 "maxMosaicImageCount": 20,
 "allowRasterFunction": true,
 "rasterFunctionInfos": [
  {
   "name": "None",
   "description": "",
   "help": ""
  }
 ],
 "rasterTypeInfos": [
  {
   "name": "Raster Dataset",
   "description": "Supports all ArcGIS Raster Datasets",
   "help": ""
  }
 ],
 "mensurationCapabilities": "Basic",
 "hasHistograms": false,
 "hasColormap": false,
 "hasRasterAttributeTable": false,
 "minScale": 0,
 "maxScale": 0,
 "exportTilesAllowed": false,
 "supportsStatistics": false,
 "supportsAdvancedQueries": false,
 "editFieldsInfo": null,
 "ownershipBasedAccessControlForRasters": null,
 "allowComputeTiePoints": false,
 "useStandardizedQueries": true,
 "advancedQueryCapabilities": {
  "useStandardizedQueries": true,
  "supportsStatistics": false,
  "supportsOrderBy": false,
  "supportsDistinct": false,
  "supportsPagination": false
 },
 "spatialReference": {
  "wkt": "GEOGCS[\"\",DATUM[\"D_\",SPHEROID[\"WGS_1984\",6378137.0,298.257223563]],PRIMEM[\"Greenwich\",0.0],UNIT[\"Degree\",0.0174532925199433]]"
 }
}
