{
 "currentVersion": 10.8,
 "serviceDescription": "PMX/D109_Imagen_2_27112023",
 "name": "PMX/D109_Imagen_2_27112023",
 "description": "",
 "extent": {
  "xmin": -102.4589407513302,
  "ymin": 18.381753634144104,
  "xmax": -96.50843121040441,
  "ymax": 23.77250482544199,
  "spatialReference": {
   "wkt": "GEOGCS[\"\",DATUM[\"D_\",SPHEROID[\"WGS_1984\",6378137.0,298.257223563]],PRIMEM[\"Greenwich\",0.0],UNIT[\"Degree\",0.0174532925199433]]"
  }
 },
 "initialExtent": {
  "xmin": -102.4589407513302,
  "ymin": 18.381753634144104,
  "xmax": -96.50843121040441,
  "ymax": 23.77250482544199,
  "spatialReference": {
   "wkt": "GEOGCS[\"\",DATUM[\"D_\",SPHEROID[\"WGS_1984\",6378137.0,298.257223563]],PRIMEM[\"Greenwich\",0.0],UNIT[\"Degree\",0.0174532925199433]]"
  }
 },
 "fullExtent": {
  "xmin": -102.4589407513302,
  "ymin": 18.381753634144104,
  "xmax": -96.50843121040441,
  "ymax": 23.77250482544199,
  "spatialReference": {
   "wkt": "GEOGCS[\"\",DATUM[\"D_\",SPHEROID[\"WGS_1984\",6378137.0,298.257223563]],PRIMEM[\"Greenwich\",0.0],UNIT[\"Degree\",0.0174532925199433]]"
  }
 },
 "pixelSizeX": 3.930842608617911E-4,
 "pixelSizeY": 2.670671880751988E-4,
 "bandCount": 1,
 "pixelType": "U16",
 "minPixelSize": 0,
 "maxPixelSize": 0,
 "copyrightText": "",
 "serviceDataType": "esriImageServiceDataTypeGeneric",
 "minValues": [],
 "maxValues": [],
 "meanValues": [],
 "stdvValues": [],
 "objectIdField": "",
 "fields": [],
 "capabilities": "Image,Metadata,Mensuration",
 "defaultMosaicMethod": "Center",
 "allowedMosaicMethods": "",
 "sortField": "",
 "sortValue": null,
 "sortAscending": true,
 "mosaicOperator": "First",
 "maxDownloadSizeLimit": 0,
 "defaultCompressionQuality": 75,
 "defaultResamplingMethod": "Bilinear",
 "maxImageHeight": 4100,
 "maxImageWidth": 15000,
 "maxRecordCount": 1000,
 "maxDownloadImageCount": 20,
 "maxMosaicImageCount": 20,
 "allowRasterFunction": true,
 "rasterFunctionInfos": [
  {
   "name": "None",
   "description": "",
   "help": ""
  }
 ],
 "rasterTypeInfos": [
  {
   "name": "Raster Dataset",
   "description": "Supports all ArcGIS Raster Datasets",
   "help": ""
  }
 ],
 "mensurationCapabilities": "Basic",
 "hasHistograms": false,
 "hasColormap": false,
 "hasRasterAttributeTable": false,
 "minScale": 0,
 "maxScale": 0,
 "exportTilesAllowed": false,
 "hasMultidimensions": false,
 "supportsStatistics": false,
 "supportsAdvancedQueries": false,
 "editFieldsInfo": null,
 "ownershipBasedAccessControlForRasters": null,
 "allowComputeTiePoints": false,
 "useStandardizedQueries": true,
 "advancedQueryCapabilities": {
  "useStandardizedQueries": true,
  "supportsStatistics": false,
  "supportsOrderBy": false,
  "supportsDistinct": false,
  "supportsPagination": false
 },
 "spatialReference": {
  "wkt": "GEOGCS[\"\",DATUM[\"D_\",SPHEROID[\"WGS_1984\",6378137.0,298.257223563]],PRIMEM[\"Greenwich\",0.0],UNIT[\"Degree\",0.0174532925199433]]"
 }
}
